BEGIN:VCALENDAR
VERSION:2.0
PRODID:-//The Bonura Hospitality Group - ECPv6.15.20//NONSGML v1.0//EN
CALSCALE:GREGORIAN
METHOD:PUBLISH
X-WR-CALNAME:The Bonura Hospitality Group
X-ORIGINAL-URL:https://www.bonurahospitality.com
X-WR-CALDESC:Events for The Bonura Hospitality Group
REFRESH-INTERVAL;VALUE=DURATION:PT1H
X-Robots-Tag:noindex
X-PUBLISHED-TTL:PT1H
BEGIN:VTIMEZONE
TZID:America/New_York
BEGIN:DAYLIGHT
TZOFFSETFROM:-0500
TZOFFSETTO:-0400
TZNAME:EDT
DTSTART:20150308T070000
END:DAYLIGHT
BEGIN:STANDARD
TZOFFSETFROM:-0400
TZOFFSETTO:-0500
TZNAME:EST
DTSTART:20151101T060000
END:STANDARD
BEGIN:DAYLIGHT
TZOFFSETFROM:-0500
TZOFFSETTO:-0400
TZNAME:EDT
DTSTART:20160313T070000
END:DAYLIGHT
BEGIN:STANDARD
TZOFFSETFROM:-0400
TZOFFSETTO:-0500
TZNAME:EST
DTSTART:20161106T060000
END:STANDARD
BEGIN:DAYLIGHT
TZOFFSETFROM:-0500
TZOFFSETTO:-0400
TZNAME:EDT
DTSTART:20170312T070000
END:DAYLIGHT
BEGIN:STANDARD
TZOFFSETFROM:-0400
TZOFFSETTO:-0500
TZNAME:EST
DTSTART:20171105T060000
END:STANDARD
BEGIN:DAYLIGHT
TZOFFSETFROM:-0500
TZOFFSETTO:-0400
TZNAME:EDT
DTSTART:20180311T070000
END:DAYLIGHT
BEGIN:STANDARD
TZOFFSETFROM:-0400
TZOFFSETTO:-0500
TZNAME:EST
DTSTART:20181104T060000
END:STANDARD
END:VTIMEZONE
BEGIN:VEVENT
DTSTART;TZID=America/New_York:20170115T120000
DTEND;TZID=America/New_York:20170115T160000
DTSTAMP:20260424T103657
CREATED:20161220T190855Z
LAST-MODIFIED:20161220T190855Z
UID:1529-1484481600-1484496000@www.bonurahospitality.com
SUMMARY:2017 Wedding Expo | The Poughkeepsie Grand Hotel
DESCRIPTION:Original Post \nThis is a MUST attend event for all Hudson Valley couples.\nEnjoy complimentary Hors d’Oeuvres\, tons of giveaways\, professional vendors\, live DJ’s and more! Follow us online for the latest details! \nAdmission is only $10 • No Reservation Necessary \nFree admission for all couples booked with The Poughkeepsie Grand Hotel\, The Grandview\, Anthony’s Pier 9 or West Hills Country Club.
URL:https://www.bonurahospitality.com/event/2017-wedding-expo-poughkeepsie-grand-hotel/
LOCATION:The Poughkeepsie Grand Hotel\, 40 Civic Center Plaza\, Poughkeepsie\, NY\, 12601\, United States
CATEGORIES:Wedding Show
ATTACH;FMTTYPE=image/jpeg:https://www.bonurahospitality.com/wp-content/uploads/2016/12/vendor-expo-2017-flyer.jpg
END:VEVENT
BEGIN:VEVENT
DTSTART;TZID=America/New_York:20161231T190000
DTEND;TZID=America/New_York:20170101T003000
DTSTAMP:20260424T103657
CREATED:20161220T191115Z
LAST-MODIFIED:20161220T191115Z
UID:1533-1483210800-1483230600@www.bonurahospitality.com
SUMMARY:New Year's Eve Gala at Anthony's Pier 9
DESCRIPTION:Ring in the New Year at the BIGGEST party in the Hudson Valley! \nThe annual Anthony’s Pier 9 New Year’s Eve Gala starts at 7:00pm and goes till 12:30 am. Enjoy a Deluxe Cocktail Hour\, Dinner and Dancing\, Fine Dining\, and Decadent Dessert. You will bring in the New Year the right way with a Champagne Toast\, Party Favors\, and Noise Makers at Midnight! \nPurchase Tickets\nWe ask that you specify the name and size of your party as well as list all guests who will be attending in the comments so we may better seat you and serve you. For any questions please contact our sales team at sales@piernine.com or by phone at 845.565.3390. \nPre-Paid Reservations Only / Must be 21 or Older / Banquet Seating / Price Per Person Inclusive \n\n\nTOP-SHELF OPEN BAR THROUGHOUT THE EVENING\nDELUXE COCKTAIL HOUR 7:00pm – 8:00pm\nContemporary Butler-Passed Hors d’Oeuvres • Chilled Jumbo Shrimp Cocktail  Display\nHot and Cold Smorgasbord with Delicious Food From Around the World \nGourmet Dinner 8:00PM – 12:30AM\nClassic Antipasto – Prosciutto di Parma\, Capicola\, Aged Provolone\, Marinated Roasted Peppers\, Aegean Olives\, Artichoke Hearts\, Fresh Mozzarella and Tomato Stromboli \nEntrée Tableside Choice of:\n\nNew York Strip Steak – Brandy Peppercorn Cream\nRoasted Atlantic Salmon – Lemon\, and Dijon Crumb\nBallentine of Chicken – Stuffed with Sausage\, Spinach\, and Monteray Jack\nPortobello Mushroom and Asparagus RisottoTomato and Fresh Herb Ragout\n\n  \nLuscious Encore\nIndividually Plated Sampler \n\nNew York Cheesecake With Fresh Berries\nWarm Chocolate Ganache Tartlet\nEspresso Crème Brûlée\n\nBreakfast Bag To-Go\nBagel & Cream Cheese\, Granola Bar\, and Refreshing Orange Juice \n  \nChampagne Toast\, Party Favors\, And Noise Makers At Midnight!
URL:https://www.bonurahospitality.com/event/new-years-eve-gala-anthonys-pier-9/
LOCATION:Anthony’s Pier 9\, 2975 US Route 9W\, New Windsor\, NY\, 12553\, United States
CATEGORIES:Holidays
ATTACH;FMTTYPE=image/jpeg:https://www.bonurahospitality.com/wp-content/uploads/2016/12/Pier9-NYE-2017-web.jpg
END:VEVENT
BEGIN:VEVENT
DTSTART;TZID=America/New_York:20161216T190000
DTEND;TZID=America/New_York:20161217T000000
DTSTAMP:20260424T103657
CREATED:20161018T165210Z
LAST-MODIFIED:20161018T165210Z
UID:1459-1481914800-1481932800@www.bonurahospitality.com
SUMMARY:The Grandview - Small Business Community Holiday Party 2016
DESCRIPTION:This year\, treat yourself and your team to a stunning holiday party at The Grandview in Poughkeepsie!\nThis Small Business & Community Holiday Party Invitation is Open to all Small Businesses\, Community Organizations\, Church Groups\, and Neighbors. Please Feel Free to Share This Invitation With Your Own Small Group and Celebrate The Holidays Together in Style. \nClick Here to Purchase Tickets Online\nWe ask that you specify the name and size of your party as well as list all guests who will be attending in the comments so we may better seat you and serve you. For any questions please contact our sales team at sales@grandviewevents.com or by phone at 845.486.4700. \n\nMusic Presented By Enriquez Entertainment \nEVENT MENU\n5 Hours of Top Shelf Open Bar\nCocktail Hour\nPassed Hors d’ Oeuvres\nPulled Pork on Savory Cheddar Biscuits\, Cucumber Slaw\nClassic Aranchini – Golden Risotto Balls Stuffed\nwith Prosciutto & Mozzarella\nLime-Infused Chicken Quesadilla\, Fresh Guacamole\nMarinated Beef & Scallion Kebob\,Teriyaki Glaze\nThai Crispy Shrimp – Fresh Mint & Orange Zest\nSeafood Cerviche Tasting Spoons\nChocolate Dipped Bacon\nSkewered Salad Caprice – Pesto Drizzle\nSeared Beef Tenderloin on a Rosemary\nGarlic Crouton – Horseradish Crème\nEndive Petals Filled with Gorgonzola\,\nCandied Walnuts\, & Roasted Bosc Pear \nEverything’s Bigger in Texas\nSmoked Beef Brisket\, Carved to Order\nAncho-Chile Rubbed Pulled Pork with Soft Potato Rolls\nGarlic-Smoked Chicken Wings\nTwice Baked Beans\, Creamy Cole Slaw\nHouse-Made Honey-Stung Corn Bread\nFried Pickles \nDisplay of Chilled Salads\, Antipasto and Fresh Fruit \nPasta \nPenne ala Vodka\nTortellini with Pesto Cream\nItalian Meatballs\nCaesar Salad \nThe All-American\nAssorted Beef Sliders\, Bleu Cheese\, Bacon\,\nFrizzled Onions\, and Cheddar\nMini All Beef Hot Dogs\, Sauerkraut\,\nand Sautéed Onions\nCrispy Chicken Parmesan Panini\nBaked Macaroni and Cheese\nHouse-Made Sweet and Russet Potato Chips \nDinner\nHouse Salad \nTableside Choice of:\nChar-broiled NY Strip Steak\nLemon\, Garlic\, Artichoke French Breast of Chicken\nCrab Meat & Scallop Stuffed Jumbo Shrimp\nEggplant Siciliana \nDessert\nThe Grandview Holiday Dessert Sampler
URL:https://www.bonurahospitality.com/event/grandview-small-business-community-holiday-party-2016/
LOCATION:The Grandview\, 176 Rinaldi Boulevard\, Poughkeepsie\, NY\, 12601\, United States
CATEGORIES:Holidays
ATTACH;FMTTYPE=image/jpeg:https://www.bonurahospitality.com/wp-content/uploads/2016/10/gv-holiday-party-2016-web1.jpg
END:VEVENT
BEGIN:VEVENT
DTSTART;TZID=America/New_York:20161213T180000
DTEND;TZID=America/New_York:20161213T210000
DTSTAMP:20260424T103657
CREATED:20161018T170132Z
LAST-MODIFIED:20161018T170132Z
UID:1463-1481652000-1481662800@www.bonurahospitality.com
SUMMARY:The Grandview December 2016 Tasting Event
DESCRIPTION:Contact us today to reserve your space at our tasting event by calling 845-486-4700 or email sales@grandviewevents.com.\nCOCKTAIL RECEPTION \nButler Passed Hors D’ Oeuvres\nStacked Scallop and Slab Bacon\, Honey Teriyaki Glaze\nMiniature Beef & Portobello Mushroom Wellingtons\nMiniature Crab Cakes\, Sauce Remoulade\nMiniature Macaroni and Cheese Beignets\nBruleed Fresh Mozzarella and Baby Tomato Crostini\nShrimp Cocktail Bloody Marys\nVietnamese Chicken Lettuce Wrap\nAlmond Encrusted Goat Cheese Medallions\nBaby Red Potatoes\, Stuffed with Bacon\,\nChives\, and Crème Fraiche \nReception Stations\nGrandview Garde Manger Creations\nMultinational Cheese Board with Water Crackers and Flatbreads\nAntipasto Display of Pepperoni\, Ham\, and Salami\nFarmers Crudités of Fresh Local Vegetables\nMarinated Black and Green Olives\nHerb-Marinated\, Fire-Roasted Vegetables\nArtfully Displayed Seasonal Fruits and Berries\nChef’s Selection of Handcrafted Chilled Salads and Canapés \nThe All-American\nAngus Beef Burger Sliders\, Bleu Cheese\, Bacon\,\nFrizzled Onions\, and Cheddar\nMini All Beef Hot Dogs\, Sauerkraut\,\nand Sautéed Onions\nCrispy Chicken Parmesan Panini\nBaked Macaroni and Cheese\nHouse-Made Sweet and Russet Potato Chips \nCafé Italiano\nMade to order pasta dishes\nRigatoni and Cheese Tortellini\nPomidoro and Pesto Cream\nAccompaniments Include:\nCrumbled Sausage\, Bocconcini\, English Peas\, Onions\, Mushrooms\, Tomatoes\nClassic Southern Italian Meatballs\nTri-Color Garden Bruschetta and Eggplant Caponata Crostini \nHacienda Grill\nAgave and Lime-Infused Chicken and Cheese Quesadillas\nSliced Steak Fajitas with Sautéed Onions and Peppers\nZesty Shrimp Tacos\, Fresh Guacamole\, Pico de Gallo\, and Jalapeño Crème\nHouse-Made Tri-Color Chips\nSpanish Rice and Red Beans\nChilled Black Bean and Corn Salad \nThe Hudson Valley Harvest\nBoursin Cheese Fondue\, Anjou Pears\,Hudson Valley Apples\, and Grapes\nBrie and Craft Beer Fondue\, Soft Pretzels\, Baguette\, Cracked Black Pepper Biscuits\nRoasted Butternut Squash Soup\nThe Plymouth Panini\, Roast Turkey\, House-Made Stuffing\, Cranberry Mayo\, on Grilled Sourdough Bread \nDINNER\nDuet: Classic Panzanella Tower\, Tomato\, Cucumber\, Fresh Mozzarella and Focaccia Cubes Soaked in Balsamic Red Wine\, Accompanied by Young Greens \nTableside Choice Of Entrée\nGrilled New York Strip Steak\, Sauce Bordelaise \nLemon\, Artichoke and Garlic-Stuffed\nFrench Breast of Chicken\, Grilled Lemon Jus \nSalmon Oscar\, Oven-Baked Salmon Topped With\nCrabmeat Stuffing and Asparagus\, Citrus Beurre Blanc \nVegetable Voulevant Caponata\, Kale Pesto \nDESSERT\nRemember the Ala”mo-de”\nWhole Sliced to Order and Individual House-made Pies Peach\, Cherry\, Mud\, Pecan\, Apple Crumb\, Coconut Cream. Vanilla Ice Cream and Aged Cheddar Cheese \nDolce and Cassata\nFreshly Filled Jumbo Cannoli with Chocolate Chips and Sprinkles\, Espresso-Laced Tiramisu\, Brooklyn Style Strawberry Cheesecake\, Apricot-Glazed Fresh Fruit Tarts\, Powdered Sugar Zeppole\, Biscotti\, Sfogliatelle\, Whole Fresh Fruit\, Almond and Pistachio Tartlets\, Chocolate-Dipped Strawberrries\, Baba Rums\, Bruléed Arborio Rice Pudding\, Rainbow\, and Pignoli Cookies. Cakes Sliced to Order: Decadent Cassata Cake\, Italian Lemon Cake\, and Ricotta Cheesecake. Cappuccino and Espresso with Italian Cordials
URL:https://www.bonurahospitality.com/event/grandview-december-2016-tasting-event/
LOCATION:The Grandview\, 176 Rinaldi Boulevard\, Poughkeepsie\, NY\, 12601\, United States
CATEGORIES:Tasting Event
ATTACH;FMTTYPE=image/jpeg:https://www.bonurahospitality.com/wp-content/uploads/2016/10/grandview-tasting-December-2016.jpg
END:VEVENT
BEGIN:VEVENT
DTSTART;TZID=America/New_York:20161124T120000
DTEND;TZID=America/New_York:20161124T163000
DTSTAMP:20260424T103657
CREATED:20161018T170310Z
LAST-MODIFIED:20161018T170310Z
UID:1466-1479988800-1480005000@www.bonurahospitality.com
SUMMARY:The Grandview's Bountiful Harvest - Thanksgiving Day Buffet 2016
DESCRIPTION:Celebrate Thanksgiving with a beautiful Thanksgiving Day Buffet at The Grandview in Poughkeepsie!\nYou and your family will enjoy mouth-watering dishes and decadent desserts all while overlooking the picturesque Hudson River. Make your reservations before we fill up by calling 845-486-4700 or email sales@grandviewevents.com.\n\nMenu\nHand-Carved to Order\nOven-Roasted Turkey Breast with Cranberry Sauce\nPrime Ribs of Beef with Creamed Horseradish and Natural au Jus\nHoney-Baked Country Ham and Tangy Mustard Dip \nAll-You-Can-Eat Entrées and Sides\nPenne ala Vodka  •  Chicken Florentine •  Traditional Stuffing\nGrouper Lemon Buerre Blanc  •  Mashed Potatoes\nCandied Sweet Potatoes  •  Maple Glazed Carrots \nHouse-Made Soups and Salads\nMinestrone Soup  •  Pumpkin Bisque\nMixed Greens Salad  •  Chilled Pasta Primavera\nFire-Grilled Garden Vegetables  •  Cream of Asparagus \nAssorted Breads & Rolls\nFantastic Dessert Table\nHouse-Made Chocolate Fudge  •  French Crème Brulee\nPecan Tart with Caramel Sauce  •  Traditional Pumpkin Pie\nWarm Apple Crisp  •  Chocolate Mousse  •  Cinnamon Rice Pudding\nNY Harvest Cheesecake  •  Upside Down Pineapple Cake\nAssorted Sorbet & Ice Cream  •  Bananas Foster \nBeverages are not inlcuded
URL:https://www.bonurahospitality.com/event/grandviews-bountiful-harvest-thanksgiving-day-buffet-2016/
LOCATION:The Grandview\, 176 Rinaldi Boulevard\, Poughkeepsie\, NY\, 12601\, United States
CATEGORIES:Holidays
ATTACH;FMTTYPE=image/jpeg:https://www.bonurahospitality.com/wp-content/uploads/2016/10/gv-thanksgiving-2016-web1.jpg
END:VEVENT
BEGIN:VEVENT
DTSTART;TZID=America/New_York:20161124T120000
DTEND;TZID=America/New_York:20161124T160000
DTSTAMP:20260424T103657
CREATED:20161018T164825Z
LAST-MODIFIED:20161018T164924Z
UID:1454-1479988800-1480003200@www.bonurahospitality.com
SUMMARY:Anthony's Pier 9 - Thanksgiving Dinner Buffet 2016
DESCRIPTION:Thursday\, November 24\, 2016  •  12:00pm – 4:00pm\n\n\nThis Thanksgiving\, let the exceptional chefs and service team at Anthony’s Pier 9 cater to you and your family. With traditional dishes\, All-You-Can-Eat Entrées & Sides\, and a fantastic assortment of desserts\, the Anthony’s Pier 9 Thanksgiving Dinner Buffet is the perfect place to celebrate the Holiday’s. \n\n\nCall 845-565-3390 for reservations or email sales@piernine.com\n\n\n\n\nAn International Buffet to Include: \nHand-Carved to Order\nOven-Roasted Turkey Breast with Creamy Gravy and Cranberry Sauce\nOld-Fashioned Maple Glazed Country Ham\nPrime Ribs Au Jus with Horseradish Cream Sauce \n House-Made Soups and Salads\nNew Enland Seafood Chowder • Vegetable Minestrone\nCrisp Baby Greens Salad • Marinated Cauliflower\nPesto-Grilled Garden Vegetables • Fresh Fruit Display \nAll-You-Can-Eat Entrées and Sides\nRoast Pork Tenderloin • Eggplant Rollatini • Chicken Marsala\nShrimp\, Scallops\, and Crab Stuffed Sole Topped with Lobster Cream\nPenne Ala Vodka Traditional Stuffing • Garlic Mashed Potatoes\nCandied Sweet Potatoes • Fresh Mixed Vegetables \nAssorted of Hearth-Baked Breads & Rolls\nChef’s Selection of Decadent Desserts\nReservations Only  •  Call (845)565-3390 or email Sales@piernine.com\n$28.95 For Adults* • $14.95 For Children*\n*Plus NYS Sales Tax. No Charge for children in high chairs or booster chairs\, please bring your own. Menu Subject To Change
URL:https://www.bonurahospitality.com/event/anthonys-pier-9-thanksgiving-dinner-buffet-2016/
LOCATION:Anthony’s Pier 9\, 2975 US Route 9W\, New Windsor\, NY\, 12553\, United States
ATTACH;FMTTYPE=image/jpeg:https://www.bonurahospitality.com/wp-content/uploads/2016/10/AP9-Thanksgiving-2016-web-768x994.jpg
END:VEVENT
BEGIN:VEVENT
DTSTART;TZID=America/New_York:20160914T170000
DTEND;TZID=America/New_York:20160914T200000
DTSTAMP:20260424T103657
CREATED:20160823T132114Z
LAST-MODIFIED:20160823T132114Z
UID:1403-1473872400-1473883200@www.bonurahospitality.com
SUMMARY:The Grandview's Autumn Wedding Show
DESCRIPTION:Save The Date For The Grandview’s Autumn Wedding Show!\nTHE GRANDVIEW’S AUTUMN WEDDING SHOW\nWednesday\, September 14\, 2016 | 5pm – 8pm \nWe will have complimentary hors d’Oeuvres\, Wedding Cake\, Hudson Valley Wedding Professionals\, Door Prizes and much more! \nFree Admission for all Bonura Hospitality Wedding Couples. \nFEATURING SPECIALITY DISHES FROM: SHADOWS ON THE HUDSON\, and BLU POINTE!
URL:https://www.bonurahospitality.com/event/the-grandviews-autumn-wedding-show/
LOCATION:The Grandview\, 176 Rinaldi Boulevard\, Poughkeepsie\, NY\, 12601\, United States
CATEGORIES:Wedding Show
ATTACH;FMTTYPE=image/jpeg:https://www.bonurahospitality.com/wp-content/uploads/2016/08/GV-STD-fb.jpg
END:VEVENT
END:VCALENDAR